BEGIN:VCALENDAR
VERSION:2.0
PRODID:-//Purefitness - ECPv6.15.12.2//NONSGML v1.0//EN
CALSCALE:GREGORIAN
METHOD:PUBLISH
X-ORIGINAL-URL:https://www.purefitness.gr
X-WR-CALDESC:Events for Purefitness
REFRESH-INTERVAL;VALUE=DURATION:PT1H
X-Robots-Tag:noindex
X-PUBLISHED-TTL:PT1H
BEGIN:VTIMEZONE
TZID:Europe/Athens
BEGIN:DAYLIGHT
TZOFFSETFROM:+0200
TZOFFSETTO:+0300
TZNAME:EEST
DTSTART:20240331T010000
END:DAYLIGHT
BEGIN:STANDARD
TZOFFSETFROM:+0300
TZOFFSETTO:+0200
TZNAME:EET
DTSTART:20241027T010000
END:STANDARD
BEGIN:DAYLIGHT
TZOFFSETFROM:+0200
TZOFFSETTO:+0300
TZNAME:EEST
DTSTART:20250330T010000
END:DAYLIGHT
BEGIN:STANDARD
TZOFFSETFROM:+0300
TZOFFSETTO:+0200
TZNAME:EET
DTSTART:20251026T010000
END:STANDARD
BEGIN:DAYLIGHT
TZOFFSETFROM:+0200
TZOFFSETTO:+0300
TZNAME:EEST
DTSTART:20260329T010000
END:DAYLIGHT
BEGIN:STANDARD
TZOFFSETFROM:+0300
TZOFFSETTO:+0200
TZNAME:EET
DTSTART:20261025T010000
END:STANDARD
END:VTIMEZONE
BEGIN:VEVENT
DTSTART;VALUE=DATE:20251010
DTEND;VALUE=DATE:20251013
DTSTAMP:20260423T052113
CREATED:20241009T064317Z
LAST-MODIFIED:20251121T185140Z
UID:10000009-1760054400-1760313599@www.purefitness.gr
SUMMARY:3ημερο Yoga Retreat στις Iconic Dexamenes\, Κουρούτα Πελοπόννησος 10-12 Οκτ. 2025
DESCRIPTION:[vc_row][vc_column][vc_column_text css_animation=”fadeIn”] \nΓια 4η χρονιά ετοιμάζουμε ενα ιδιαίτερο Yoga Retreat σε ένα μεταπολεμικό οινοποιείο\, που έχει μετατραπεί σε ένα  πολυτελές θέρετρο το Dexamenes Suites\, στην Κουρούτα Δυτικής Πελοποννήσου\n[/vc_column_text][/vc_column][/vc_row][vc_section full_height=””yes”” content_placement=””middle”” css_animation=””left-to-right”” css=””.vc_custom_1671089500329{padding-top:”][vc_row content_placement=””middle””][vc_column width=””1/2″”][/vc_column][vc_column width=””1/2″”][vc_custom_heading text=””Ένα” font_container=””tag:h2|font_size:30px|text_align:left|color:%23ffffff|line_height:60px”” google_fonts=””font_family:Comfortaa%3A300%2Cregular%2C700|font_style:700%20bold%20regular%3A700%3Anormal”” css_animation=””fadeInRight”” css=””.vc_custom_1751705225620{margin-bottom:”][vc_custom_heading text=”””” font_container=””tag:p|font_size:20px|text_align:left|color:%23ffffff|line_height:28px”” google_fonts=””font_family:Comfortaa%3A300%2Cregular%2C700|font_style:700%20bold%20regular%3A700%3Anormal”” css_animation=””fadeIn””][vc_single_image image=””20944″” img_size=””150″” alignment=””right”” css_animation=””fadeIn””][/vc_column][/vc_row][vc_row][/vc_row][vc_row][/vc_row][vc_row][vc_column][/vc_column][/vc_row][/vc_section][vc_section css=””.vc_custom_1658934388479{padding-top:”][vc_row][vc_column][vc_column_text] \nΣυγκλονιστικά ηλιοβασιλέματα\, ένα γεμάτο φεγγάρι και πέντε ξεχωριστές αίθουσες πρακτικής στον ίδιο χώρο! Το τριήμερο 10-12 Οκτωβρίου 2025 θα ζήσουμε τη συνέχεια του καλοκαιριού σε χώρους υψηλής αισθητικής και design. Θα έχουμε την ευκαιρία να συνεχίσουμε το καλοκαίρι μας μπροστά στη θάλασσα με την υπέροχη αμμουδιά\, να απολαύσουμε τα ιδιαίτερα πιάτα στο εστιατόριο του ξενοδοχείου και να κάνουμε μια μικρή απόδραση με ξενάγηση στην Αρχαία Ολυμπία.\n\nΣπάνια η ιστορία και η οικονομία ενός τόπου έχουν συνδεθεί τόσο στενά με ένα γεωργικό προϊόν όπως η περιοχή της δυτικής Πελοποννήσου συνδέθηκε με σταφύλια και ειδικά με σταφύλια της Μαύρης Κορίνθου (σταφίδες). Θα ζήσουμε μοναδικές στιγμές σε ένα ολοκαίνουργιο ξενοδοχείο\, πάνω στην παραλία της Κουρούτας που θα μας κανει να χαλαρώσουμε\, απολαμβάνοντας την πολυτέλεια της απλότητας. Ο χωρος και η ενέργεια του θέλουν να μεταφέρουν μια ολιστική μεσογειακή εμπειρία\, με θέα το απέραντο γαλάζιο.\nΦέτος\, θα είναι ακόμα καλύτερα γιατί ολοκληρώθηκε ο δρόμος Πάτρας-Πύργου\, το εστιατόριο του βραβεύτηκε με Michelin Key και παραδόθηκαν τα νέα δωμάτια (Seaview Terrace suites)\n\nΔείτε τι ζήσαμε το 2024 ΕΔΩ...\nΔείτε τι ζήσαμε το 2022 ΕΔΩ...\nΔείτε τι ζήσαμε το 2021 ΕΔΩ...\n[/vc_column_text][/vc_column][/vc_row][vc_row][vc_column css_animation=”fadeInLeft” width=”1/2″][vc_single_image image=”22163″ img_size=”500×500″ css_animation=”fadeInLeft”][/vc_column][vc_column width=”1/2″ css=”.vc_custom_1658934369991{padding-top: 20px !important;}”][vc_custom_heading text=”Λίγα Λόγια για την Φωτεινή Μπήτρου” font_container=”tag:h2|font_size:50px|text_align:center|color:%23000000|line_height:60px” google_fonts=”font_family:Comfortaa%3A300%2Cregular%2C700|font_style:700%20bold%20regular%3A700%3Anormal” link=”url:https%3A%2F%2Fwww.purefitness.gr%2Fbio%2F”][vc_separator color=”custom” border_width=”2″ el_width=”10″ css=”.vc_custom_1568023183210{padding-top: 15px !important;}” accent_color=”#e8b8b8″][vc_custom_heading text=”H Φωτεινή Mπήτρου είναι Καθηγήτρια Φυσικής Αγωγής (Απόφοιτος ΤΕΦΑΑ Αθηνών) και ιδιοκτήτρια του Kouros studio που λειτουργεί απο το 1997. Ίδρυσε το 2004 την ομάδα κλασικού αθλητισμού (στίβου) Αίγινας (Ο.Α. ΚΟΥΡΟΣ ΑΙΓΙΝΑΣ)\, στην οποία ήταν πρόεδρος για 5 χρόνια. Ασχολήθηκε επί 12 συναπτά έτη με τον κλασσικό αθλητισμό (800μ-1.500 μ.) και ήταν πρωταθλήτρια στίβου με πολλές συμμετοχές στην Εθνική Ομάδα. 23 χρόνια ασχολείται συστηματικά με το aerobic και τα βάρη\, και έχει συμμετάσχει σε ανάλογες διοργανώσεις στο Fitness. Τα τελευταία 17 χρόνια ασχολείται εντατικά με τη Yoga. Διδάσκει Hatha\, Restorative και Vinyasa Yoga\, με πάνω απο 9.000 ώρες διδασκαλίας και είναι εγγεγραμμένη πιστοποιημένη καθηγήτρια Yoga Alliance E-RYT 500. Έχει πραγματοποιήσει πάνω απο 90 yoga retreat στην Ελλάδα και το εξωτερικό.” font_container=”tag:p|font_size:13px|text_align:center|color:%237c7c7c|line_height:28PX” google_fonts=”font_family:Comfortaa%3A300%2Cregular%2C700|font_style:700%20bold%20regular%3A700%3Anormal”][vc_btn title=”Διαβάστε Περισσότερα” style=”outline-custom” outline_custom_color=”#aa9786″ outline_custom_hover_background=”#997977″ outline_custom_hover_text=”#000000″ align=”center” css=”.vc_custom_1658934337009{margin-bottom: 20px !important;}” link=”url:https%3A%2F%2Fwww.purefitness.gr%2Fbio%2F”][/vc_column][/vc_row][vc_row][/vc_row][vc_row][/vc_row][vc_row][vc_column][vc_video link=”https://youtu.be/IMJmFgvV55g”][/vc_column][/vc_row][vc_row][vc_column][vc_hoverbox image=”21633″ primary_title=”Highlights” primary_title_font_container=”font_size:40|color:%23ffffff” hover_title=”Highlights” hover_align=”left” shape=”square” css_animation=”fadeInLeft” use_custom_fonts_primary_title=”true” reverse=”true”] \n\nΑρχαία Ολυμπία\nΠαραλία\n\n.[/vc_hoverbox][vc_separator][vc_video link=”https://youtu.be/_0bBDfe4lJg”][/vc_column][/vc_row][vc_row][vc_column][vc_tta_tour style=”modern” color=”turquoise” gap=”4″ active_section=”1″ pagination_style=”outline-square” css_animation=”fadeIn”][vc_tta_section title=”Κόστος” tab_id=”1658953724250-9df4298c-94e3″][vc_column_text] \n\n\n\n\n2 pax\n3 pax\n\n\n\n\nκόστος/άτομο (€)\nκόστος/άτομο (€)\nΣύνολο\n\n\nBackyard WineTank Suite\n295\n\n5 δωμάτια\n\n\nCourtyard WineTank Suite\n330\n\n 5 δωμάτια\n\n\nBeachFront WineTank Suite\n430\n350\n2 δωμάτια\n\n\n\nΜονόκλινο Backyard WineTank Suite 460€ \nΜονόκλινο Courtyard WineTank Suite 530€ \nΖητήστε τιμές για τις νέες Seaview Terrace Suites \nΤρόπος Πληρωμής\n150 € κράτηση θέσης – προκαταβολή \nεξόφληση έως 1 Σεπτεμβρίου 2025 \nΈμβασμα σε Τράπεζα\n\nGR 1902603710000350100194261 (Μπήτρου Φωτεινή – Eurobank) \nGR 5501102410000024100179902 (Μπήτρου Φωτεινή – Εθνική Τράπεζα) \nGR 4901721240005124026347130 (Μπήτρου Φωτεινή – Τράπεζα Πειραιώς) \nGR7301401610161002002013890 ((Μπήτρου Φωτεινή – Alpha Bank) \nή μέσω Κάρτας \nπληρώνοντας online ΕΔΩ \nή μέσω του συστήματος IRIS \nστο κινητό μου 6932431281 \n\n\n.\nΣημειώσεις\n\nΗ δέσμευση θέσης γίνεται μόνο με κατάθεση προκαταβολής\nΠαρακαλούμε να αναγράφετε στην αιτιολογία πληρωμής το ΟΝΟΜΑ σας  και την λέξη Dexamenes\n\n[/vc_column_text][/vc_tta_section][vc_tta_section title=”Περιλαμβάνονται” tab_id=”1658954156973-9ff735a1-c4a3″][vc_column_text] \n\n✔ Διαμονή για 2 νύχτες στο Dexamenes Suites  \n✔ πρωϊνά \n✔ 4 μαθήματα Yoga \n✔ ΦΠΑ \n\n[/vc_column_text][/vc_tta_section][vc_tta_section title=”Δεν περιλαμβάνονται” tab_id=”1658954418654-06769ddd-c8f2″][vc_column_text]✔Μεταφορικά \n✔Γεύματα \n✔Είσοδος και Ξενάγηση στην Αρχαία Ολυμπία \n✔τέλος ανθεκτικότητας στην κλιματική κρίση[/vc_column_text][/vc_tta_section][vc_tta_section title=”Πολιτική Ακύρωσης” tab_id=”1658953724250-f0123988-44a5″][vc_column_text] \n\nΑκύρωση 8 εβδομάδες πριν την αναχώρηση – απώλεια προκαταβολής\nΑκύρωση 8 – 2 εβδομάδες πριν την αναχώρηση – απώλεια του 80% του συνολικού ποσού\nΑκύρωση 2 εβδομάδες μέχρι  την αναχώρηση – απώλεια του 100% του συνολικού ποσού\n\n[/vc_column_text][/vc_tta_section][/vc_tta_tour][vc_message] \n\nΗ πρακτική είναι για όλα τα επίπεδα ασκουμένων.\nΥπάρχουν 4 αίθουσες \, τρεις ανοιχτές και μια κλειστή\n\n[/vc_message][vc_column_text el_class=”elafonisos”] \nΕΠΙΚΟΙΝΩΝΙΑ / ΚΡΑΤΗΣΕΙΣ \nΦωτεινή Μπήτρου  fotini.bitrou@gmail.com\, +30 6932431281[vc_single_image image=”20949″ img_size=”medium” add_caption=”yes” alignment=”center” style=”vc_box_circle_2″ onclick=”custom_link” link=”https://new.purefitness.gr/completed-yoga-retreats/%22][vc_gallery type=”image_grid” images=”21693\,21691\,21689\,21687\,21685\,21683\,21681\,21663\,21665\,21667\,21673\,21675\,21677\,21679\,21661\,21659\,21657\,21655\,21653\,21651\,21649\,21647\,21645\,21643\,21641\,21639\,21637\,21635\,21633\,21631\,21629\,21627\,21609\,21611\,21613\,21615\,21617\,21619\,21623\,21625\,21607\,21605\,21603\,21601\,21599\,21597\,21595\,21593\,21591\,21589\,21587\,21585\,21583\,21581\,21579\,21577\,21575\,21573\,21571\,21569\,21567\,21565\,21561\,21559\,21557\,21555\,21553\,21551\,21549\,21547\,21545\,21543\,21541\,21539\,21537\,21535\,21533\,21531\,21529\,21527\,21525\,21523\,21521\,21519\,21517\,21515\,21513\,21511\,21509\,21507\,21505\,21503\,21501\,21499\,21497″][vc_column_text css_animation=”fadeIn”] \nTestimonial\n(από το retreat 2024) \nΜια θαυμάσια εμπειρία από την Φωτεινή και τον Πέτρο. See you soon. \nΑ.Τ. \nΗ πρώτη φορά ήταν υπέροχη!!!! Η Δεύτερη!!! Μαγική!!! Ελπίζω να έχω πολλές μαγικές φορές ακόμα!!! \nΚ.N. \nΔεν υπάρχουν λόγια!!! Συγχαρητήρια για τα μέρη που επιλέγετε. ΔΕΞΑΜΕΝΕΣ Μοναδικό μέρος. Συνεχίζω το ταξίδι μαζί σας Φωτεινή\, Πέτρο. Με αγάπη \nΜ.Κ. \nΜια υπέροχη νέα εμπειρία που θα χαρίσει υπέροχες αναμνήσεις – ευχαριστώ- Με αγάπη \nΑ.Λ. \nΜια μαγική εμπειρία από την Φωτεινή και τον Πέτρο\, σ’ένα φανταστικό μέρος@ Ένα τριήμερο γεμάτο από όμορφα συναισθήματα που μας γέμισε με μοναδικές εικόνες και αναμνήσεις. Και στα επόμενα! \nΝ.Χ. \nΆλλη μια φορά που η Φωτεινή και ο Πέτρος με γέμισαν χαρά\, ευεξία\, ενέργεια με συτό το τριήμερο στον υπέροχο χώρο του μοναδικού ξενοδοχείου δίπλα στη θάλασσα\, μέσα στα αρωματικά φυτά\, με βροχή και με ήλιο. Ό\,τι καλύτερο για να συνεχίσω την καθημερινότητα. Namaste! Ευχαριστώ! \nΕ.Π. \nΕυχαριστούμε πολύ για την μοναδική εμπειρία χαλάρωσης και ηρεμίας. Καταπληκτικό ξενοδοχείο\, μοναδική θέα και όπως πάντα η Φωτεινή και ο Πέτρος μας προσφέρουν μια μεγάλη αγκαλιά αγάπης. Και στα επόμενα!!! \nΚ.Λ. \nΕυχαριστούμε πολύ πολύ για άλλη μια μοναδική εμπειρία! Ιδιαίτερο ξενοδοχείο\, τέλεια παρέα\, πολλά ενναλακτικά spots για yoga. Αιώνια πιστοί Φωτεινή- Πέτρος \nΝ.Τ. & Κ.Λ. \nΦωτεινή κ Πέτρο χωρίς λόγια να μπορώ να εκφράσω αισθήματα\, αισθήσεις. Άλλο ένα ιδιαίτερο σημείο υπέροχο για αυτή την εποχή. Ευχαριστούμε για όλα \nΟ.Τ. & Ν.Τ. \nΘάλασσα κ γιόγκα σε ένα πάρα πολύ ωραίο μέρος. Χαλάρωση και ηρεμία!! Ευχαριστώ για το πολύ ωραίο 3ήμερο. \nΕ.Μ. \nΦωτεινή και Πέτρο\, ευχαριστώ για το πολύ ωραίο Σ/Κ που διοργανώσατε. \nΜ.Π. \nΥπέροχο μέρος!!! Ευχαριστώ πολύ για τις υπέροχες στιγμές που προσφέρατε. Κυρίως ηρεμία και γαλήνη. Πέτρο και Φωτεινή μπράβο σας!!! \nΚ.Κ. \nΕυχαριστούμε πολύ για το υπέροχο Σ/Κ που διοργανώσατε στο υπέροχο αυτό ξενοδοχείο. Φωτεινή είναι πράγματι Φωτεινή όχι μόνο στο όνομα!!! Ανυπομονούμε για την επόμενη μας συνάντηση μας!!! \nΧ.Ρ. & Ε.Ρ. \nΦωτεινή και Πέτρο\, Περάσαμε για άλλη μια φορά υπέροχα και σας ευχαριστούμε για την όμορφη αυτή διοργάνωση. Η αλήθεια είναι ότι με εξέπληξε το γεγονός ότι υπάρχει ένα τόσο ωραίο ξενοδοχείο στον Ν.Ηλείας απ’όπου κατάγομαι. Είναι κάτι διαφορετικό με τον δικό του χαρακτήρα και ύφος. Ραντεβού στα επόμενα retreat\, σε νέους προορισμούς. \nΑ.Π. & Δ.Κ. & Γ.Π. \nΆλλος ένας ιδιαίτερος προορισμός με τους υπέροχους Φωτεινή και Πέτρο!!! Ευχαριστούμε πολύ για το άψογο τριήμερο που μας προσφέρατε!!! Το απολαύσαμε πραγματικά!!! \nΕ.Μ. & Λ.Π. \nΦωτεινή κ Πέτρο\, Σας ευχαριστώ για την φιλοξενία στο retreat σας! Namaste \nK.Π. \nΠέρασα υπέροχα και ανυπομονώ για περισσότερα ταξίδια ψυχής \nΝ.Ν. \n[/vc_column_text][/vc_column][/vc_row][/vc_section][vc_row][/vc_row][vc_row][vc_column][vc_gmaps link=”#E-8_JTNDaWZyYW1lJTIwc3JjJTNEJTIyaHR0cHMlM0ElMkYlMkZ3d3cuZ29vZ2xlLmNvbSUyRm1hcHMlMkZlbWJlZCUzRnBiJTNEJTIxMW0xOCUyMTFtMTIlMjExbTMlMjExZDEwMDkyNi41MDgyMTI1MDclMjEyZDIxLjIyNTc2NTk4Mjc0MzgyNyUyMTNkMzcuNzY3NjkxMjczNzQzMSUyMTJtMyUyMTFmMCUyMTJmMCUyMTNmMCUyMTNtMiUyMTFpMTAyNCUyMTJpNzY4JTIxNGYxMy4xJTIxM20zJTIxMW0yJTIxMXMweDEzNjBiYTBmZTVhNGVmNWQlMjUzQTB4NzI3MDAwYzgwNWYyNWQ3NiUyMTJzRGV4YW1lbmVzJTI1MjBTZWFzaWRlJTI1MjBIb3RlbCUyMTVlMCUyMTNtMiUyMTFzZWwlMjEyc2lsJTIxNHYxNjY4MjM5MjIzMTcwJTIxNW0yJTIxMXNlbCUyMTJzaWwlMjIlMjB3aWR0aCUzRCUyMjYwMCUyMiUyMGhlaWdodCUzRCUyMjQ1MCUyMiUyMHN0eWxlJTNEJTIyYm9yZGVyJTNBMCUzQiUyMiUyMGFsbG93ZnVsbHNjcmVlbiUzRCUyMiUyMiUyMGxvYWRpbmclM0QlMjJsYXp5JTIyJTIwcmVmZXJyZXJwb2xpY3klM0QlMjJuby1yZWZlcnJlci13aGVuLWRvd25ncmFkZSUyMiUzRSUzQyUyRmlmcmFtZSUzRQ==”][vc_text_separator title=”Upcoming Yoga Retreats” border_width=”10″ css_animation=”fadeIn”][/vc_column][/vc_row]
URL:https://www.purefitness.gr/event/yoga-retreat-dexamenes-kourouta-2025/
CATEGORIES:Yoga Retreat
ATTACH;FMTTYPE=:
END:VEVENT
END:VCALENDAR