BEGIN:VCALENDAR
VERSION:2.0
PRODID:-//Purefitness - ECPv6.15.12.2//NONSGML v1.0//EN
CALSCALE:GREGORIAN
METHOD:PUBLISH
X-WR-CALNAME:Purefitness
X-ORIGINAL-URL:https://www.purefitness.gr
X-WR-CALDESC:Events for Purefitness
REFRESH-INTERVAL;VALUE=DURATION:PT1H
X-Robots-Tag:noindex
X-PUBLISHED-TTL:PT1H
BEGIN:VTIMEZONE
TZID:Europe/Athens
BEGIN:DAYLIGHT
TZOFFSETFROM:+0200
TZOFFSETTO:+0300
TZNAME:EEST
DTSTART:20240331T010000
END:DAYLIGHT
BEGIN:STANDARD
TZOFFSETFROM:+0300
TZOFFSETTO:+0200
TZNAME:EET
DTSTART:20241027T010000
END:STANDARD
BEGIN:DAYLIGHT
TZOFFSETFROM:+0200
TZOFFSETTO:+0300
TZNAME:EEST
DTSTART:20250330T010000
END:DAYLIGHT
BEGIN:STANDARD
TZOFFSETFROM:+0300
TZOFFSETTO:+0200
TZNAME:EET
DTSTART:20251026T010000
END:STANDARD
BEGIN:DAYLIGHT
TZOFFSETFROM:+0200
TZOFFSETTO:+0300
TZNAME:EEST
DTSTART:20260329T010000
END:DAYLIGHT
BEGIN:STANDARD
TZOFFSETFROM:+0300
TZOFFSETTO:+0200
TZNAME:EET
DTSTART:20261025T010000
END:STANDARD
END:VTIMEZONE
BEGIN:VEVENT
DTSTART;VALUE=DATE:20251105
DTEND;VALUE=DATE:20251111
DTSTAMP:20260423T121754
CREATED:20250203T055415Z
LAST-MODIFIED:20251121T184933Z
UID:10000007-1762300800-1762819199@www.purefitness.gr
SUMMARY:6Ημερο Yoga Retreat στο Ατμοσφαιρικό Μαρόκο 5-10 Νοεμβρίου 2025
DESCRIPTION:[vc_row][vc_column][vc_column_text css_animation=”fadeIn”] \nΜαρακκές\, η πόλη με τα χίλια χρώματα\n[/vc_column_text][/vc_column][/vc_row][vc_section full_height=”yes” content_placement=”middle” css_animation=”left-to-right” css=”.vc_custom_1738431708669{padding-top: 200px !important;padding-bottom: 200px !important;background-image: url(https://new.purefitness.gr/wp-content/uploads/2025/02/IMG_8522.jpg?id=30015 !important;background-position: center !important;background-repeat: no-repeat !important;background-size: cover !important;}”][vc_row content_placement=”middle”][vc_column width=”1/2″][/vc_column][vc_column width=”1/2″][vc_custom_heading text=”Ένα σταυροδρόμι πολιτισμών\, μεταξύ ανατολής και δύσης που σίγουρα θα μπει μέσα στην καρδιά μας.” font_container=”tag:h2|font_size:30px|text_align:left|color:%23ffffff|line_height:60px” google_fonts=”font_family:Comfortaa%3A300%2Cregular%2C700|font_style:700%20bold%20regular%3A700%3Anormal” css_animation=”fadeInRight” css=”.vc_custom_1713549063633{margin-bottom: 30px !important;}”][vc_custom_heading text=”” font_container=”tag:p|font_size:20px|text_align:left|color:%23ffffff|line_height:28px” google_fonts=”font_family:Comfortaa%3A300%2Cregular%2C700|font_style:700%20bold%20regular%3A700%3Anormal” css_animation=”fadeIn”][vc_single_image image=”20944″ img_size=”150″ alignment=”right” css_animation=”fadeIn”][/vc_column][/vc_row][vc_row][/vc_row][vc_row][/vc_row][vc_row][vc_column][/vc_column][/vc_row][/vc_section][vc_section css=”.vc_custom_1658934388479{padding-top: 30px !important;padding-bottom: 60px !important;}”][vc_row][vc_column][vc_column_text] \nΓια 2η συνεχόμενη χρονιά Yoga Retreat στο Μαρόκο\, με τα ζωηρά χρώματα\, εικόνες βγαλμένες από παραμύθι εθιστικα αρώματα σε ένα παιχνίδι εντυπώσεων. Η Κόκκινη πόλη θα μας μαγέψει\, μαζί με την εμπειρία της yoga μέσα σε εντυπωσιακούς κήπους. Είναι μια σύνδεση της Ανατολής με Ευρωπαϊκά στοιχεία. Το ξενοδοχείο μας\, που βρίσκεται στην καρδιά του Μαρρακές\, θα είναι το ορμητήριο\, για να ανακαλύψουμε τις εικόνες και τα αρώματα από τα παλάτια\, τα σοκάκια\, τα εμβληματικά τείχη και τις αγορές. Είναι μοναδικά τα αξιοθέατα που θα επισκεφτούμε\, όπως το εντυπωσιακό Κουτούμπια\, το μεγαλύτερο τζαμί της πόλης\, το ιστορικότερο τοπόσημο στην περιοχή της Μεντίνα\, μια ανάσα μακριά από την πλατεία Τζεμάα ελ-Φνα\, εκεί όπου χτυπά η καρδιά του Μαρρακές. Ένα απο τα πολλά highlights είναι η μονοήμερη επίσκεψη στην Εσαουίρα\, μια πόλη στις ακτές του Ατλαντικού\, ντυμένη στα λευκά και τα μπλε\, που σήμερα αποτελεί σημαντικό κέντρο της μαροκινής καλλιτεχνικής δημιουργίας. Φέτος θα μπούμε στην πύλη της ερήμου\, την Ουαρζαζάτ όπου θα μείνουμε ένα βράδυ για να δούμε το εκπληκτικό χωριό Άιτ Μπεν Χαντού\, το οποίο αποτελεί μνημείο παγκόσμιας κληρονομιάς της UNESCO το περιβόητο κινηματογραφικό στούντιο "Atlas"\, στο οποίο έχουν γυριστεί σκηνές από πολλές ταινίες και τηλεοπτικές σειρές. \n\nΔείτε ΕΔΩ τι ζήσαμε το 2024\n\n[/vc_column_text][/vc_column][/vc_row][vc_row][vc_column css_animation=”fadeInLeft” width=”1/2″][vc_single_image image=”27372″ img_size=”500×600″ css_animation=”fadeInLeft”][/vc_column][vc_column width=”1/2″ css=”.vc_custom_1658934369991{padding-top: 20px !important;}”][vc_custom_heading text=”Λίγα Λόγια για την Φωτεινή Μπήτρου” font_container=”tag:h2|font_size:50px|text_align:center|color:%23000000|line_height:60px” google_fonts=”font_family:Comfortaa%3A300%2Cregular%2C700|font_style:700%20bold%20regular%3A700%3Anormal” link=”url:https%3A%2F%2Fwww.purefitness.gr%2Fbio%2F”][vc_separator color=”custom” border_width=”2″ el_width=”10″ accent_color=”#e8b8b8″ css=”.vc_custom_1568023183210{padding-top: 15px !important;}”][vc_custom_heading text=”H Φωτεινή Mπήτρου είναι Καθηγήτρια Φυσικής Αγωγής (Απόφοιτος ΤΕΦΑΑ Αθηνών) και ιδιοκτήτρια του Kouros studio που λειτουργεί απο το 1997. Ίδρυσε το 2004 την ομάδα κλασικού αθλητισμού (στίβου) Αίγινας (Ο.Α. ΚΟΥΡΟΣ ΑΙΓΙΝΑΣ)\, στην οποία ήταν πρόεδρος για 5 χρόνια. Ασχολήθηκε επί 12 συναπτά έτη με τον κλασσικό αθλητισμό (800μ-1.500 μ.) και ήταν πρωταθλήτρια στίβου με πολλές συμμετοχές στην Εθνική Ομάδα. 23 χρόνια ασχολείται συστηματικά με το aerobic και τα βάρη\, και έχει συμμετάσχει σε ανάλογες διοργανώσεις στο Fitness. Τα τελευταία 17 χρόνια ασχολείται εντατικά με τη Yoga. Διδάσκει Hatha\, Restorative και Vinyasa Yoga\, με πάνω απο 9.000 ώρες διδασκαλίας και είναι εγγεγραμμένη πιστοποιημένη καθηγήτρια Yoga Alliance E-RYT 500. Έχει πραγματοποιήσει πάνω απο 90 yoga retreat στην Ελλάδα και το εξωτερικό.” font_container=”tag:p|font_size:13px|text_align:center|color:%237c7c7c|line_height:28PX” google_fonts=”font_family:Comfortaa%3A300%2Cregular%2C700|font_style:700%20bold%20regular%3A700%3Anormal”][vc_btn title=”Διαβάστε Περισσότερα” style=”outline-custom” outline_custom_color=”#aa9786″ outline_custom_hover_background=”#997977″ outline_custom_hover_text=”#000000″ align=”center” css=”.vc_custom_1658934337009{margin-bottom: 20px !important;}” link=”url:https%3A%2F%2Fwww.purefitness.gr%2Fbio%2F”][/vc_column][/vc_row][vc_row][/vc_row][vc_row][/vc_row][vc_row][vc_column][vc_video link=”https://youtu.be/j5fyPj_PWYE”][/vc_column][/vc_row][vc_row][vc_column][vc_hoverbox image=”27382″ primary_title=”Highlights” primary_title_font_container=”font_size:40|color:%23ffffff” hover_title=”Highlights” hover_align=”left” css_animation=”fadeInLeft” use_custom_fonts_primary_title=”true” reverse=”true”] \n✔ Τζαμί Κουτούμπια\n✔ παλάτι Ελ Μπαχία\n✔ κήποι Υβ Σεν Λοράν\n✔ πλατεία Τζεμαά Ελ Φνα\n✔Βόλτα με άμαξες στο Μαρρακές\n✔ Εσσαουίρα\n✔ Έρημος Agafay\n✔Επίσκεψη στο επιβλητικό οχυρό της ερήμου Αίτ Μπεν Χαντού\n✔Επίσκεψη στα κινηματογραφιικά στούντιο Άτλας \n✔ καθημερινή Yoga \n[/vc_hoverbox][/vc_column][/vc_row][vc_row][vc_column][vc_tta_tabs active_section=”1″ title=”Πρόγραμμα”][vc_tta_section title=”1η μέρα” tab_id=”1658936608935-afde3a01-1d06″][vc_column_text]1η μέρα: Αθήνα – Μαρρακές \nΣυνάντηση στο αεροδρόμιο και απ΄ευθείας πτήση με Aegean για την “Κόκκινη Πόλη”\, το κοσμοπολίτικο\, ολοζώντανο  Μαρρακές. Άφιξη\, μεταφορά και τακτοποίηση στο ξενοδοχείο μας. Απόγευμα ελεύθερο για μια πρώτη βόλτα στην πόλη Διανυκτέρευση.[/vc_column_text][/vc_tta_section][vc_tta_section title=”2η μέρα” tab_id=”1658936608936-1c6c021d-f6fd”][vc_column_text]2η μέρα: Μαρρακές\, Περιήγηση στον λαβύρινθο της Μεδίνας και στους εξωτικούς κήπους Μαζορέλ ή Υβ Σεν Λοράν   / Ερημος Αγκαφάι  \nΗ σημερινή μας ξενάγηση στην πόλη θα ξεκινήσει από το Τζαμί Κουτούμπια\, το οποίο βλέπουμε εξωτερικά\, καθώς δεν επιτρέπεται η επίσκεψη σε μη μουσουλμάνους. Ο μιναρές του τζαμιού αυτού αποτελεί το σύμβολο της πόλης. Θα συνεχίσουμε με το παλάτι Ελ Μπαχία\, δηλαδή το παλάτι της ευνοούμενης\, που έχει κτιστεί στα τέλη του 19ου αιώνα\, καθώς και το Μουσείο Νταρ Σι Σαΐντ (Dar Si Said)\, ένα πανέμορφο ανάκτορο που φιλοξενεί μια πλούσια συλλογή από ξύλινα διακοσμητικά και όχι μόνο. Θα επισκεφθούμε επίσης τους πανέμορφους κήπους Μαζορέλ ή Υβ Σεν Λοράν. Μετά θα πάμε βόλτα με τον αρχηγό στην φημισμένη πλατεία Τζεμαά Ελ Φνα ή “Πλατεία των Θαυμάτων”. Σύμφωνα με την UNESCO\, η πλατεία αυτή αποτελεί αριστούργημα προφορικής και ανέπαφης παγκόσμιας κληρονομιάς. Εκεί\, επί καθημερινής βάσης εκτυλίσσεται ένα μαγευτικό θέαμα\, που το συνθέτουν οι υπαίθριοι αυτοσχέδιοι πάγκοι-εστιατόρια\, γητευτές φιδιών\, παραμυθάδες και μάγισσες\, σε συνδυασμό με τα εκατοντάδες μαγαζιά που ξετρυπώνουν από τις πιο απίθανες γωνίες των σουκς. Το απόγευμα εκδρομή στην έρημο Αγκαφάι. \nΜια όαση στην έρημο Agafay\, ανάμεσα σε βραχώδεις αμμόλοφους και με θέα στα χιονισμένα βουνά του Άτλαντα\, 45 λεπτά από το κέντρο του Μαρακές. H ταξιδιωτική περιπέτεια φτιάχνει ένα μοναδικό λεύκωμα αναμνήσεων\, συνδέοντας τη φιλοξενία\, που εμπνέεται από τις παραδόσεις των Βεδουίνων\, με τις ντόπιες μουσικές\, τα έθιμα\, τη γαστρονομία\, τις περιηγήσεις με καμήλα και πάρτυ. Διανυκτέρευση.[/vc_column_text][/vc_tta_section][vc_tta_section title=”3η μέρα” tab_id=”1658936821005-e92cfdb5-f065″][vc_column_text]3η μέρα: Μαρρακές \nΟλοήμερη εκδρομή στην Εσαουίρα \nΠρωινή αναχώρηση για την Εσσαουίρα\, μια πόλη στις ακτές του Ατλαντικού\, ντυμένη στα λευκά και τα μπλε\, που σήμερα αποτελεί σημαντικό κέντρο της μαροκινής καλλιτεχνικής δημιουργίας. Ανεβείτε στο κάστρο και απολαύστε την μαγευτική θέα\, περπατήστε κατά μήκος του ωκεανού και ακούστε το τιτίβισμα των γλάρων… Η Εσσαουίρα σίγουρα θα σας αφήσει όμορφες εικόνες. Στην περιοχή της Εσσαουίρα και του Μαρρακές φυτρώνουν οι αργκανιές\, από τις οποίες  βγαίνει το πανάκριβο έλαιο αργκάν (argan\, αργανέλαιο). Τα κλαδιά των δένδρων αργκάν φέρουν άγρια αγκάθια\, που αποδεικνύονται αποτελεσματικό αποτρεπτικό μέτρο για όσους επιθυμούν να συλλέξουν τους καρπούς τους – για όλους\, εκτός από τις απτόητες κατσίκες\, που σκαρφαλώνουν πάνω στα δέντρα αυτά! Επιστροφή στο ξενοδοχείο. Διανυκτέρευση.[/vc_column_text][/vc_tta_section][vc_tta_section title=”4η μέρα” tab_id=”1658937186968-cb6ab21c-9bcc”][vc_column_text]4η μέρα: Μαρρακές – Αίτ Μπεν Χαντού – Ουαρζαζάτ\,  \nΑναχώρηση για την θρυλική Ουαρζαζάτ (Ouarzazate)\, την “Πύλη της Ερήμου”\, μια πόλη βγαλμένη θαρρείς από κάποιο αραβικό παραμύθι\, η οποία υπήρξε οχυρό των Γάλλων Λεγεωνάριων. Λίγο πριν φτάσουμε θα κάνουμε μια στάση να  επισκεφθούμε το εκπληκτικό ksar/οχυρωμένο χωριό Άιτ Μπεν Χαντού\, το οποίο αποτελεί μνημείο παγκόσμιας κληρονομιάς της UNESCO. Εδώ σταματούσαν για να ξαποστάσουν τα καραβάνια που μετέφεραν χρυσό\, αλάτι και άλλα πολύτιμα φορτία\, όντας ασφαλή και προστατευμένα από επιδρομές κλεφτών. Λόγω της θέσης του και της γραφικότητάς του μάλιστα\, έχει συχνά χρησιμοποιηθεί ως σκηνικό κινηματογραφικών ταινιών. Άφιξη στην Ουρζαζάτ και τακτοποίηση στο ξενοδοχείο μας. Δείπνο. Διανυκτέρευση.[/vc_column_text][/vc_tta_section][vc_tta_section title=”5η μέρα” tab_id=”1658937336311-8947b88d-9ec4″][vc_column_text]5η μέρα: Ουαρζαζάτ – Κάσμπα Ταουρίτ – Κινηματογραφικά στούντιο Άτλας – Μαρρακές \nΜετά το πρωινό μας αναχώρηση για Μαρρακές. Θα κάνουμε μια στάση για φωτογραφίες στην Κάσμπα Ταουρίτ και στη συνέχεια θα επισκεφθούμε με το περιβόητο κινηματογραφικό στούντιο “Atlas”\, στο οποίο έχουν γυριστεί σκηνές από πολλές ταινίες και τηλεοπτικές σειρές – Μονομάχος\, Μέγας Αλέξανδρος\, Αστερίξ και Κλεοπάτρα\, Prison Break\, Μούμια\, Game of Thrones κ.ά. Αποτελεί το μεγαλύτερο στούντιο κινηματογραφικών γυρισμάτων στον κόσμο\, καθώς και δημοφιλή τουριστικό προορισμό. Πολλά μάλιστα από τα σκηνικά γνωστών ταινιών παραμένουν άθικτα!. Αναχώρηση για Μαρρακές.[/vc_column_text][/vc_tta_section][vc_tta_section title=”6η μέρα” tab_id=”1738433025738-50521857-f2e0″][vc_column_text]6η μέρα: Μαρρακές Πτήση για Αθήνα     . \nΜεταφορά στο αεροδρόμιο και πτήση επιστροφής στην Αθήνα. Άφιξη αυθημερόν[/vc_column_text][/vc_tta_section][/vc_tta_tabs][/vc_column][/vc_row][vc_row][vc_column][vc_single_image image=”27378″ img_size=”full”][vc_tta_tour style=”modern” color=”turquoise” gap=”4″ active_section=”1″ pagination_style=”outline-square” css_animation=”fadeIn”][vc_tta_section title=”Κόστος” tab_id=”1658953724250-9df4298c-94e3″][vc_column_text] \n–  1.490 € σε δίκλινο δωμάτιο (με εξασφαλισμένα αεροπορικά με Aegean)\n– 1.970€ Μονόκλινο\n– 1.320€ Τρίτο άτομο έως 12 ετών\n-Για αναχώρηση από άλλο μέρος\, πχ Θεσσαλονίκη\, Κύπρο ή άλλα μέρη του εξωτερικού\, παρακαλώ κάντε μας ζήτηση για να σας ενημερώσουμε για τις πτήσεις και το κόστος. \nΔυνατότητα μέχρι 12 άτοκες δόσεις Visa ή Mastercard με πιστωτική κάρτα\n->300€ προκαταβολή για δέσμευση της θέσης \nΗ οργάνωση του ταξιδιού είναι σε συνεργασία με το Manessis Travel  \n1η δόση 300€ για την κράτηση \n2η δόση 300€  μέχρι 31ΜΑΡΤΙΟΥ25 \n3η δόση 300€  μέχρι 15ΙΟΥΝΙΟΥ25 \n4η δόση 300€ μέχρι 15ΑΥΓΟΥΣΤΟΥ25 \nΕξόφληση Μέχρι 15ΣΕΠΤΕΜΒΡΙΟΥ25 \nΤΡΑΠΕΖΕΣ \nALPHA BANK \nIBAN: GR6401401200120002002011854 \nSWIFT CODE: CRBAGRAA \nA/C: 120002002011854 \nEUROBANK \nA/C 00260003050200642684 \nIBAN: GR8702600030000050200642684 \nΕΘΝΙΚΗ ΤΡΑΠΕΖΑ \nA/C 104/471469 – 51 \nIBAN: GR4201101040000010447146951 \nΠΕΙΡΑΙΩΣ \nA/C 5082 076504 622 \nIBAN: GR0601720820005082076504622 \nΜΑΝΕΣΣΗΣ-ΤΑΞΙΔΙΩΤΙΚΟΣ ΟΡΓΑΝΙΣΜΟΣ-ΑΝΩΝΥΜΗ ΤΟΥΡΙΣΤΙ \nΣτην αιτιολογία κατάθεσης να αναγράφεται το ΟΝΟΜΑ σας και η λέξη ΦΩΤΕΙΝΗ ΜΠΗΤΡΟΥ ΜΑΡΟΚΟ\n[/vc_column_text][/vc_tta_section][vc_tta_section title=”Διαμονή” tab_id=”1658953724250-f0123988-44a5″][vc_column_text] \n\n\n\nΠόλη\nΝύχτες\nΞενοδοχείο\nΙστότοπος\n\n\nΜΑΡΡΑΚΕΣ\n 4\nKENZI ROSE GARDEN 5*\n https://www.kenzi-hotels.com/en/kenzi-rose-garden\n\n\n\n\n(στο κέντρο του Μαρρακές)\n\n\n\nΟΥΑΡΖΑΖΑΤ\n 1\nRS Hotel Karam Palace 4*\n\n\n\n\n[/vc_column_text][/vc_tta_section][vc_tta_section title=”Περιλαμβάνονται” tab_id=”1658954156973-9ff735a1-c4a3″][vc_column_text] \n✔Αεροπορικά εισιτήρια οικονομικής θέσης ΑΘΗΝΑ-ΜΑΡΡΑΚΕΣ-ΑΘΗΝΑ με Aegean Airlines.✔Τέσσερις διανυκτερεύσεις στο Μαρρακές στο ξενοδοχείο KENZI ROSE GARDEN 5* / Superior Rooms.\n✔Μία διανυκτέρευση στην Ουαρζαζάτ στο ξενοδοχείο KARAM PALACE 4*\n✔Μονοήμερη εκδρομή στην Εσσαουίρα✔Βόλτα με άμαξες στο Μαρρακές. \n✔Εκδρομή στην έρημο Αγκαφάι. \n✔Ημιδιατροφή καθημερινά. \n✔Μεταφορές από/προς τα αεροδρόμια εξωτερικού. \n✔Αγγλόφωνες ξεναγήσεις\, περιηγήσεις\, εκδρομές\, όπως αναγράφονται στο πρόγραμμα. \n✔Είσοδοι στα μουσεία\, μνημεία και αξιοθέατα που αναγράφονται στο πρόγραμμα. \n✔Υπηρεσίες τοπικού αντιπροσώπου. \n✔Ασφάλεια αστικής ευθύνης. \n✔καθημερινές πρακτικές yoga \n✔Φόροι αεροδρομίων\, επίναυλος καυσίμων\, αχθοφορικά\, φιλοδωρήματα\, ταξιδιωτική ασφάλεια για ταξιδιώτες έως 75 ετών. \n\n[/vc_column_text][/vc_tta_section][vc_tta_section title=”Δεν περιλαμβάνονται” tab_id=”1658954418654-06769ddd-c8f2″][vc_column_text]✔τοπικοί φόροι 200euro cash στο αεροδρόμιο[/vc_column_text][/vc_tta_section][vc_tta_section title=”Πτήσεις” tab_id=”1658954520399-9d34d732-1c4d”][vc_column_text] \n\n\n\n05ΝΟΕ25\nA3 738\nΑΘΗΝΑ – ΜΑΡΡΑΚΕΣ\n08:55 – 12:30\n\n\n10ΝΟΕ25\nA3 739\nΜΑΡΡΑΚΕΣ –  ΑΘΗΝΑ\n13:25 – 18:30\n\n\n\n  \nαπευθείας πτήση με Aegean Airlines σε οικονομική θέση \nΑΠΑΙΤΕΙΤΑΙ ΕΛΛΗΝΙΚΟ ΔΙΑΒΑΤΗΡΙΟ ΜΕ 6ΜΗΝΗ ΙΣΧΥ[/vc_column_text][/vc_tta_section][/vc_tta_tour][vc_single_image image=”27376″ img_size=”full” alignment=”center” title=”Εσσαουίρα”][vc_single_image image=”30042″ img_size=”full” alignment=”center” css_animation=”fadeIn” title=”Ουαρζαζάτ”][vc_message css_animation=”fadeIn”]✔ Καθημερινά θα γίνεται τουλάχιστον ένα μάθημα yoga. \n✔ Όλες οι πρακτικές είναι ανοιχτές σε ασκούμενους όλων των επίπεδων[/vc_message][vc_cta h2=”Tips” txt_align=”center”] \nΘα έχουμε άπλετο χρόνο να ανακαλύψουμε τo Μαρρακές για βόλτες\, ξεναγήσεις και ψώνια\, που μοιάζει μυστηριώδης και θα χαλαρώσουμε σε ένα ονειρεμένο σκηνικό. Θα επιλέξουμε ένα από τα επιλεγμένα Spa της πόλης\, όπως το LOTUS ή το SULTANA με τις ξυλόγλυπτες πόρτες και τον μαγευτικό φωτισμό και στη συνέχεια θα απολαύσουμε ένα απογευματινό τσάι μέντας από τον Pierre Herme στον μοναδικό κήπο του ξενοδοχείου "LA MAMOUNIA" - έμβλημα" της πόλης. Θα γευματίσουμε στην ταράτσα του EL FENN\, θα ανοίξουμε την πόρτα του LOTUS JARDIN CABANA και απολαύσουμε το κοκτέιλ σας με θέα τον Μιναρέ Κουτούμπια. Επίσης\, όποιος θέλει\, μπορεί να ζήσει μια μοναδική εμπειρία πετώντας με αερόστατο και αγναντεύοντας την ανατολή του ήλιου και την εκπληκτική θέα της πόλης από ψηλά. Απαραίτητη προϋπόθεση η καλή διάθεση \,χαμόγελο και να θέλετε μέσα από την ψυχή σας\, να μοιραστείτε όμορφες στιγμές μαζί μας. Μέσα από την καρδιά μας \, Μόνο αγάπη \, Ζήσε την εμπειρία \, Ζήσε την στιγμή \n\nΠέτρος -Φωτεινή\n[/vc_cta][vc_column_text][/vc_column_text][vc_single_image image=”20949″ img_size=”medium” add_caption=”yes” alignment=”center” style=”vc_box_circle_2″ onclick=”custom_link” link=”https://new.purefitness.gr/completed-yoga-retreats/%22][vc_cta h2=”Testimonial (από το retreat του 2024)” txt_align=”center”] \nΑγαπητοί Φωτεινή και Πέτρο\, ήταν ένα από τα ωραιότερα retreat που έχετε οργανώσει! Εκτίμηση ιδιαίτερα το πρωινό ξύπνημα με τα κελαηδίσματα των πουλιών από τον κήπο του ξενοδοχείου και τους καταπράσινους δρόμους του Μαρρακές. Η βραδιά στα Μαμούνια ήταν παραμυθένια και η ατμόσφαιρα στην παλιά πόλη μαγική. Οι πρακτικές και ο διαλογισμός μου προσφέραν ηρεμία και σύνδεση\, τος με τον εαυτό μου\, όσο και με την υπέροχη συντροφιά που είχα σε αυτό το ταξίδι! Ευχαριστώ \nΑ.Τ. \nΆλλο ένα όμορφο ταξίδι στον κόσμο της yoga μαζί με το Μαρόκο που ήταν όνειρο ζωής/ Χάρηκα που το μοιραστήκαμε μαζί υ και με τους όμορφους ανθρώπους που σας ακολουθούν. Η Yoga είναι πάντα στις προθέσεις μου\, όταν είναι η σωστή ώρα. Ευχαριστώ που μου δίνετε\, Φωτεινή και Πέτρο την έμπνευση και την ευκαιρία. Με αγάπη \nΒ.Α. \nΡε παιδιά! Μα ρε παιδιά! \nΤι θα γίνει με αυτή την τέλεια φασούλα που έχετε φτιάξει\, με τις ταξιδιάρες\, τη γιόγκα και την τέλεια παρέα σας! Ακόμα μια τέλεια εμπειρία μα με αμέτρητες αναμνήσεις! Για που είμαστε μετά!!1 Μόνο αυτό σκεφτόμαστε με τη μαμά! Σας ευχαριστούμε για την τέλεια οργάνωση μα κυρίως για αυτούς που είπαμε! Οι χαρακτήρες και τα χαμόγελα σας είναι τα δύο αυτά στοιχεία που μας κάνουν να θέλουμε να είμαστε μέρος αυτής της φανταστικής παρέας που έχετε φτιάξει και οργώνετε όλο τον πλανήτη με σας συνταξιδιώτες σας! \nΒ.Β. & Σ.Μ. \nΠέρασα φανταστικά ένας υπέροχος προορισμός οι ανθρωπιά\, η κουλτούρα και η διασκέδαση\, σε συνδυασμό με τη ασφάλεια. Όλα υπέροχα σας ευχαριστώ πολύ!!! Για μια ακόμα φορά ήταν όλα τέλεια οργανωμένα με ένα τυχαίο γκρουπ. Επίσης πολύ καλο. Η Φωτεινή εξαιρετική στη δουλειά τα όπως και ο Πέτρος έχετε μια εξαιρετική θέση στην καρδιά μου σας εκτιμώ! Πολλά φιλια!1 εις το επανιδείν! \nΦ.Τ. \nΕξαιρετικό ταξίδι\, καταπληκτική οργάνωση\, υπέροχοι άνθρωποι. Φωτεινή κ Πέτρο πολλά ευχαριστούμε \, που για μια ακόμα φορά\, δώσατε τα υπέροχα χαμόγελα σας\, την ασταμάτητα καλή διάθεση σας\, την υπομονή σας\, για να μας μείνει αξέχαστο το Μαρόκο! Να είστε πάντα καλά και να συνεχίσετε με το ίδιο κέφι την ζωή σας\, αγκαλιά με την Δημητρούλα σας! \nΓ.Ε. & Μ.Γ. \nΦωτεινή και Πέτρος\, Πέτρε και Φωτεινή. Υψηλού επιπέδου δουλειά για το σώμα μας και την ψυχή μας. Με τις γνώσεις και τον κόπο σας\, μαζί μας\, και με άλλους εξαιρετικούς φίλους φτιάξατε ένα κόσμο γεμάτο μεταξωτές κορδέλες. Υπέροχοι μου. Σας φιλώ!! Πάντα γεροί\, δυνατοί! Αγαπημένοι \nΔ.Α \nΜαρόκο\, ένας υπέροχος προορισμός\, ένας καμβάς χρωμάτων και πολιτισμού. Μυστικοί δρόμοι στην Μεντίνα\, αμμόλοφοι στην έρημο\, καμήλες\, ηλιοβασιλέματα\, βραδινή διασκέδαση. ¨ένα ταξίδι που τα είχε όλα\, μα πάνω από όλα γνωριμίες και νέους φίλους. Σας ευχαριστούμε πολύ \nΔ.Θ. \nΕυχαριστώ πολύ Φωτεινή και Πέτρο που έγινα μέρος αυτού του μαγευτικού ταξιδιού στο Μαρόκο. Επιστρέφω γεμάτη εικόνες\, μυρωδιές\, χρώματα\, νέες γνωριμίες και ένα σωρό ανακαλύψεις για τον ίδιο μου τον εαυτό\, κάνοντας αυτό το ταξίδι μόνη μου. Κι αυτό το χρωστάω και σε εσάς μου δείχνετε ασφάλεια κ εμπιστοσύνη Στο επόμενο λοιπόν. \nΒ.Κ. \nΗ Φωτεινή ήταν καταπληκτική. Λίγες είναι οι φορές που έχω κάνει γιόγκα \, ίσως 1-2 φορές . Έχω κάνει αρκετό αθλητισμό και άλλες πρακτικές. Σε αυτό το γιόγκα retreat όμως ένιωσα ένα σφυγμό\, μια επικοινωνία βαθύτερη και μια ανάγκη να προχωρήσω στο ταξίδι αυτό. Σαφέστατα πρέπει να δουλέψω τις πρακτικέ μου!!! Ευχαριστών πολύ για όλα και ελπίζω να τα καταφέρω να έρθω πλάι! \nΝ.Π. \nΑγαπητοί Φωτεινή και Πέτρο\, ευχαριστούμε πάρα πολύ για αυτό το ταξίδι και την ωραία διοργάνωση. Πέρασα πολύ όμορφα και απέκτησα καινούργιες εμπειρίες! \nΣ.Π. \nΦωτεινή και Πέτρο. Κάθε ταξίδι μαζί σας είναι και μια ξεχωριστή εμπειρία. Σας ευχαριστούμε πολύ για τις πολύ ευχάριστες στιγμές που περάσαμε! Ανυπομονούμε για την επόμενη φορά. \nΓ.Β. & Α.Μ. \nΑγαπητοί Φωτεινή κ Πέτρο\, σας ευχαριστώ για την ευκαιρία που μου δόθηκε για άλλη μια φορά να ζήσω την περιπέτεια γεμάτη τοπία\, κουλτούρα και να συναντήσω νέα πρόσωπα. Συγνώμη που δεν συμμετείχα σε όλες τις συναντήσεις γιόγκα \, είμαι λόγο τεμπέλα.! Σας εύχομαι να έχετε υγεία και να διοργανώνετε πάντα τέτοια όμορφα ταξίδια! Με πολύ αγάπη \nΑ.Α. \nΑγαπημένοι μου Φωτεινή κ Πέτρο\, Άλλο ένα καταπληκτικό yoga retreat δυστυχώς τελείωσε\, ήταν μια αξέχαστη εμπειρία στο υπέροχο πολύχρωμο Μαρόκο. ¨όπως πάντα βάλατε όλη την αγάπη κ την φροντίδα για ένα άψογο οργανωμένο\, πλούσιο γεμάτο πρόγραμμα. Περάσαμε υπέροχα\, οι μέρες αλλά και οι νύχτες μας είχαν απ’ όλα\, ακούραστα προτείνατε δράσεις που μόνοι μας δεν θα κάναμε ποτέ. Δημιουργήσατε μοναδική εμπειρία. Σας ευχαριστώ από τα βάθη της καρδιάς μας για την ευκαιρία που μας δίνετε να ζω αυτή την εμπειρία. Σας αγαπώ θα σας ακολουθώ πάντα. Η Κουμπάρα σας \nΜ.Δ. \nΈνα πολύ καλά οργανωμένο ταξίδι σε ένα κράτος που ομολογώ με γέμισε με ευχάριστες εκπλήξεις που δεν περίμενα! Υπέροχη ομάδα-παρέα με 4 γιόγκα συμπλήρωσε αυτή την αξέχαστη εμπειρία. Πέτρο-Φωτεινή σας ευχαριστούμε για ακόμα μια φορά!! \nΡ.Μ \nA marvelous yoga retreat at magical Marocco! We enjoyed the morning yoga practices and then the excursions walks\, shopping trips in Marrakesh to explore its colorful streets\, souks and restaurants. Fotini and Petros thank you so much. NAMASTE \nPs and the last night “desert” party surprise was great too!!! \nA.B. \nΦωτεινή και Πέτρο\, αν και ήταν η πρώτη φορά που ήρθαμε μαζί σας\, περάσαμε υπέροχα\, λίγες μέρες\, αμέτρητες εικόνες συναισθήματα και ατμόσφαιρα…απλά υπέροχη. Φοβερή οργάνωση κέφι και μεράκι…. Φωτογραφίες που έμειναν  στο μυαλό μας χωρίς να έχουν βγει και αποθηκευτεί στο κινητό. Στο επόμενο λοιπόν + ΣΥΝΤΟΜΑ. Συγχαρητήρια/// \nΕ.Σ. & Α.Π. \nΠρώτη φορά μαζί σας στο εξωτερικό και είμαι σίγουρη ότι θα ακολουθήσουν και άλλες πολλές! Τα μέρη που επισκεφτήκαμε ήταν πανέμορφα αλλά δεν θα ήταν τα ίδια εάν έλλειπε η πρωινή γιόγκα. Η γιόγκα ήταν το κίνητρο… Φωτεινή ευχαριστώ για αυτό το κίνητρο. Πέτρο ευχαριστώ που τα κάνεις όλα να γίνονται εύκολα και χαλαρά. Η ομάδα σκίζει. Φιλιά πολλά και στα επόμενα. \nΜ.Α. \nΑπό τις πιο ωραίες εκδρομές μαζί σας. Υπέροχα χρώματα\, ενέργεια και εικόνες. Πολύ ισορροπημένο πρόγραμμα\, τα είχε όλα! Φωτεινή οι διατάσεις πολύ καλές. Και στα επόμενα…Big thank you για τη φροντίδα και για όλα. \nΑ.Γ. \n[/vc_cta][vc_gallery type=”image_grid” images=”29132\,29130\,29128\,29126\,29124\,29122\,29120\,29118\,29116\,29113\,29093\,29095\,29097\,29099\,29101\,29103\,29105\,29107\,29109\,29111\,29091\,29089\,29087\,29085\,29083\,29081\,29079\,29077\,29075\,29073\,29053\,29055\,29057\,29059\,29061\,29063\,29065\,29067\,29069\,29071\,29051\,29049\,29047\,29045\,29043\,29041\,29039\,29037\,29035\,29033\,29013\,29015\,29017\,29019\,29021\,29023\,29025\,29027\,29029\,29031\,29011\,29009\,29007\,29005\,29003\,29001\,28999\,28997\,28995\,28993\,28974\,28977\,28979\,28981\,28983\,28985\,28987\,28989\,28991″ title=”Image Gallery”][/vc_column][/vc_row][/vc_section][vc_row][/vc_row][vc_row][vc_column][vc_gmaps link=”#E-8_JTNDaWZyYW1lJTIwc3JjJTNEJTIyaHR0cHMlM0ElMkYlMkZ3d3cuZ29vZ2xlLmNvbSUyRm1hcHMlMkZlbWJlZCUzRnBiJTNEJTIxMW0xOCUyMTFtMTIlMjExbTMlMjExZDEzNTkwLjcwOTQyODM4OTg5MSUyMTJkLTguMDEwMDQxNDM0MzcxOTcyJTIxM2QzMS42MTUyOTk0ODE2NTQzJTIxMm0zJTIxMWYwJTIxMmYwJTIxM2YwJTIxM20yJTIxMWkxMDI0JTIxMmk3NjglMjE0ZjEzLjElMjEzbTMlMjExbTIlMjExczB4ZGFmZWZmNWM1MDhhMGYxJTI1M0EweDQ1YmZjZGYxY2VkODY4NjMlMjEyc0tlbnppJTI1MjBSb3NlJTI1MjBHYXJkZW4uLi4uJTIxNWUwJTIxM20yJTIxMXNlbCUyMTJzZ3IlMjE0djE3MTM1NTUxNDQ4NjklMjE1bTIlMjExc2VsJTIxMnNnciUyMiUyMHdpZHRoJTNEJTIyNjAwJTIyJTIwaGVpZ2h0JTNEJTIyNDUwJTIyJTIwc3R5bGUlM0QlMjJib3JkZXIlM0EwJTNCJTIyJTIwYWxsb3dmdWxsc2NyZWVuJTNEJTIyJTIyJTIwbG9hZGluZyUzRCUyMmxhenklMjIlMjByZWZlcnJlcnBvbGljeSUzRCUyMm5vLXJlZmVycmVyLXdoZW4tZG93bmdyYWRlJTIyJTNFJTNDJTJGaWZyYW1lJTNF”][/vc_column][/vc_row]
URL:https://www.purefitness.gr/event/yoga-retreat-marocco-2025/
CATEGORIES:Yoga Retreat
ATTACH;FMTTYPE=:
END:VEVENT
END:VCALENDAR